BEGIN:VCALENDAR
VERSION:2.0
PRODID:-//wp-events-plugin.com//7.2.3.1//EN
BEGIN:VEVENT
UID:1@valklobouky.casd.cz
DTSTART:20160407T164500Z
DTEND:20160407T174500Z
DTSTAMP:20160403T060922Z
URL:https://valklobouky.casd.cz/events/studium-bible/
SUMMARY:Studium Bible
DESCRIPTION:Každý čtvrtek v 17.50 studium bible v městském muzeu.
CATEGORIES:Studium Bible
LOCATION:Muzeum\, Masarykovo nám. 276\, Valašské Klobouky\, 766 01\, Če
 ská republika
GEO:49.1403815;18.007515300000023
X-APPLE-STRUCTURED-LOCATION;VALUE=URI;X-ADDRESS=Masarykovo nám. 276\, Vala
 šské Klobouky\, 766 01\, Česká republika;X-APPLE-RADIUS=100;X-TITLE=Mu
 zeum:geo:49.1403815,18.007515300000023
END:VEVENT
BEGIN:VEVENT
UID:2@valklobouky.casd.cz
DTSTART:20240120T130000Z
DTEND:20240120T140000Z
DTSTAMP:20240118T203136Z
URL:https://valklobouky.casd.cz/events/novorocni-program-2024/
SUMMARY:Novoroční program 2024
DESCRIPTION:Dovolujeme si vás pozvat na tradiční novoroční program na
 šeho sboru\, tvořený pásmem duchovních písní s doprovodným mluven
 ým slovem.\n\n
ATTACH;FMTTYPE=image/jpeg:https://valklobouky.casd.cz/wp-content/uploads/2
 024/01/pozvanka_novorocni-program-2024.png
LOCATION:Sbor CASD Valašské Klobouky\, Kramoličova 1108\, Valašské Klo
 bouky\, Česká republika
X-APPLE-STRUCTURED-LOCATION;VALUE=URI;X-ADDRESS=Kramoličova 1108\, Valašs
 ké Klobouky\, Česká republika;X-APPLE-RADIUS=100;X-TITLE=Sbor CASD Vala
 šské Klobouky:geo:0,0
END:VEVENT
END:VCALENDAR